BEGIN:VCALENDAR
VERSION:2.0
PRODID:-//Live Like Locals Jacksonville - ECPv6.15.2//NONSGML v1.0//EN
CALSCALE:GREGORIAN
METHOD:PUBLISH
X-WR-CALNAME:Live Like Locals Jacksonville
X-ORIGINAL-URL:https://livelikelocalsjacksonville.com
X-WR-CALDESC:Events for Live Like Locals Jacksonville
REFRESH-INTERVAL;VALUE=DURATION:PT1H
X-Robots-Tag:noindex
X-PUBLISHED-TTL:PT1H
BEGIN:VTIMEZONE
TZID:America/New_York
BEGIN:DAYLIGHT
TZOFFSETFROM:-0500
TZOFFSETTO:-0400
TZNAME:EDT
DTSTART:20230312T070000
END:DAYLIGHT
BEGIN:STANDARD
TZOFFSETFROM:-0400
TZOFFSETTO:-0500
TZNAME:EST
DTSTART:20231105T060000
END:STANDARD
END:VTIMEZONE
BEGIN:VEVENT
DTSTART;TZID=America/New_York:20230708T120000
DTEND;TZID=America/New_York:20230708T133000
DTSTAMP:20260421T053745
CREATED:20230704T195620Z
LAST-MODIFIED:20230704T205004Z
UID:10000016-1688817600-1688823000@livelikelocalsjacksonville.com
SUMMARY:Kids Art Lab
DESCRIPTION:Kids ages 6-10 join MOCA Educators for fun and engaging art activities inspired by a monthly theme. Each session includes a trip to the galleries to see how artists are inspired by STEAM topics\, plus an interactive and creative project that attendees can bring home—but don’t worry the mess of creation stays in MOCA’s studios. \nJoin us for Kids Art Lab the second Saturday of each month at noon!
URL:https://livelikelocalsjacksonville.com/event/545/
LOCATION:Moca Jacksonville\, 333 North Laura St\, Jacksonville\, FL\, 32202\, United States
CATEGORIES:Children
ATTACH;FMTTYPE=image/png:https://livelikelocalsjacksonville.com/wp-content/uploads/2023/07/moca.png
END:VEVENT
END:VCALENDAR