BEGIN:VCALENDAR
VERSION:2.0
PRODID:-//Live Like Locals Jacksonville - ECPv6.15.2//NONSGML v1.0//EN
CALSCALE:GREGORIAN
METHOD:PUBLISH
X-ORIGINAL-URL:https://livelikelocalsjacksonville.com
X-WR-CALDESC:Events for Live Like Locals Jacksonville
REFRESH-INTERVAL;VALUE=DURATION:PT1H
X-Robots-Tag:noindex
X-PUBLISHED-TTL:PT1H
BEGIN:VTIMEZONE
TZID:America/New_York
BEGIN:DAYLIGHT
TZOFFSETFROM:-0500
TZOFFSETTO:-0400
TZNAME:EDT
DTSTART:20230312T070000
END:DAYLIGHT
BEGIN:STANDARD
TZOFFSETFROM:-0400
TZOFFSETTO:-0500
TZNAME:EST
DTSTART:20231105T060000
END:STANDARD
BEGIN:DAYLIGHT
TZOFFSETFROM:-0500
TZOFFSETTO:-0400
TZNAME:EDT
DTSTART:20240310T070000
END:DAYLIGHT
BEGIN:STANDARD
TZOFFSETFROM:-0400
TZOFFSETTO:-0500
TZNAME:EST
DTSTART:20241103T060000
END:STANDARD
END:VTIMEZONE
BEGIN:VEVENT
DTSTART;TZID=America/New_York:20240427T110000
DTEND;TZID=America/New_York:20240427T160000
DTSTAMP:20260420T065048
CREATED:20240105T213637Z
LAST-MODIFIED:20240528T152347Z
UID:10000027-1714215600-1714233600@livelikelocalsjacksonville.com
SUMMARY:Baymeadows Fun Fest Series
DESCRIPTION:Live Like Locals is thrilled to invite you and your loved ones to the Baymeadows Fun Fest\, a day filled with laughter\, entertainment\, and community spirit. Mark your calendars for a spectacular event hosted 4 times in 2024. Get ready to experience the ultimate carnival-style extravaganza that promises fun for all ages!
URL:https://livelikelocalsjacksonville.com/event/baymeadows-fun-fest-series/2024-04-27/
LOCATION:The Avenues\, 7915 Baymeadows Cir E.\, Jacksonville\, FL\, 32256\, United States
CATEGORIES:Children,Health Activity,Outdoor Market,Workshop
ATTACH;FMTTYPE=image/jpeg:https://livelikelocalsjacksonville.com/wp-content/uploads/2023/12/baymeadows-fun-fest-event-cover.jpg
END:VEVENT
BEGIN:VEVENT
DTSTART;TZID=America/New_York:20240203T110000
DTEND;TZID=America/New_York:20240203T160000
DTSTAMP:20260420T065048
CREATED:20240105T213637Z
LAST-MODIFIED:20240528T152347Z
UID:10000026-1706958000-1706976000@livelikelocalsjacksonville.com
SUMMARY:Baymeadows Fun Fest Series
DESCRIPTION:Live Like Locals is thrilled to invite you and your loved ones to the Baymeadows Fun Fest\, a day filled with laughter\, entertainment\, and community spirit. Mark your calendars for a spectacular event hosted 4 times in 2024. Get ready to experience the ultimate carnival-style extravaganza that promises fun for all ages!
URL:https://livelikelocalsjacksonville.com/event/baymeadows-fun-fest-series/2024-02-03/
LOCATION:The Avenues\, 7915 Baymeadows Cir E.\, Jacksonville\, FL\, 32256\, United States
CATEGORIES:Children,Health Activity,Outdoor Market,Workshop
ATTACH;FMTTYPE=image/jpeg:https://livelikelocalsjacksonville.com/wp-content/uploads/2023/12/baymeadows-fun-fest-event-cover.jpg
END:VEVENT
BEGIN:VEVENT
DTSTART;TZID=America/New_York:20230708T090000
DTEND;TZID=America/New_York:20230708T100000
DTSTAMP:20260420T065048
CREATED:20230704T185352Z
LAST-MODIFIED:20230704T185352Z
UID:10000012-1688806800-1688810400@livelikelocalsjacksonville.com
SUMMARY:Morning Yoga at Riverside Arts Market
DESCRIPTION:Relax and practice yoga along the St. Johns River and under the Fuller Warren Bridge at RAM’s River Stage!\nMorning Yoga at Riverside Arts Market (RAM) is taught by a variety of certified teachers and is a donation-based class. All yogis attending\, please bring your own mat and supplies. \nTeachers are subject to change without notification and monthly schedules will be posted!\nIf you are interested in teaching\, please email info@riversideartsmarket.org to learn about opportunities. \nTo sign-up to be an instructor of Morning Yoga visit:\nhttps://www.signupgenius.com/go/8050c4ca9ad2da31-20231#/ \nAfter class\, join RAM every Saturday from 10 a.m. – 3 p.m.\, rain or shine. Produced by Riverside Avondale Preservation\, RAM features artists\, farmers\, makers\, musicians and many other community organizations. RAM is a great place to grab your locally grown produce\, purchase local art\, grab a bite to eat and enjoy the day along the St. John’s River.
URL:https://livelikelocalsjacksonville.com/event/morning-yoga-at-riverside-arts-market/
LOCATION:Riverside Arts Market\, 715 Riverside Ave.\, Jacksonville\, FL\, 32202\, United States
CATEGORIES:Health Activity
ATTACH;FMTTYPE=image/jpeg:https://livelikelocalsjacksonville.com/wp-content/uploads/2023/07/ram.jpg
END:VEVENT
END:VCALENDAR